BEGIN:VCALENDAR
VERSION:2.0
PRODID:-//hacksw/handcal//NONSGML v1.0//EN
CALSCALE:GREGORIAN
BEGIN:VEVENT
DESCRIPTION:
DTSTART:20220804T003000Z
DTEND:20220804T003000Z
SUMMARY:10am School Tour
URL;VALUE=URI:
DTSTAMP:20260415T133830Z
UID:69df94d60a9c5
END:VEVENT
END:VCALENDAR