BEGIN:VCALENDAR
VERSION:2.0
PRODID:-//hacksw/handcal//NONSGML v1.0//EN
CALSCALE:GREGORIAN
BEGIN:VEVENT
DESCRIPTION:
DTSTART:20221221T013000Z
DTEND:20221221T013000Z
SUMMARY:12pm school closure – last day for Admin\, Finance\, IT & Maintenance staff
URL;VALUE=URI:
DTSTAMP:20260415T160444Z
UID:69dfb71ce908c
END:VEVENT
END:VCALENDAR