BEGIN:VCALENDAR
VERSION:2.0
PRODID:-//hacksw/handcal//NONSGML v1.0//EN
CALSCALE:GREGORIAN
BEGIN:VEVENT
DESCRIPTION:
DTSTART:20220512T090000Z
DTEND:20220512T090000Z
SUMMARY:6:30pm Yr 12 Drama Performance
URL;VALUE=URI:
DTSTAMP:20260420T055218Z
UID:69e5bf1280fa2
END:VEVENT
END:VCALENDAR