BEGIN:VCALENDAR
VERSION:2.0
PRODID:-//hacksw/handcal//NONSGML v1.0//EN
CALSCALE:GREGORIAN
BEGIN:VEVENT
DESCRIPTION:
DTSTART:20220405T093000Z
DTEND:20220405T093000Z
SUMMARY:7pm Sacraments Parent Meeting (Redden Undercroft)
URL;VALUE=URI:
DTSTAMP:20260420T062732Z
UID:69e5c7549b528
END:VEVENT
END:VCALENDAR