BEGIN:VCALENDAR
VERSION:2.0
PRODID:-//hacksw/handcal//NONSGML v1.0//EN
CALSCALE:GREGORIAN
BEGIN:VEVENT
DESCRIPTION:
DTSTART:20220301T221500Z
DTEND:20220301T224000Z
SUMMARY:8:45-9:10am Ash Wednesday: Liturgies (Home Classes)
URL;VALUE=URI:
DTSTAMP:20260421T061627Z
UID:69e7163b89809
END:VEVENT
END:VCALENDAR