BEGIN:VCALENDAR
VERSION:2.0
PRODID:-//hacksw/handcal//NONSGML v1.0//EN
CALSCALE:GREGORIAN
BEGIN:VEVENT
DESCRIPTION:9:15am Primary Assembly\n
DTSTART:20221201T224500Z
DTEND:20221201T224500Z
SUMMARY:Primary Assembly (9:15am)
URL;VALUE=URI:
DTSTAMP:20260415T134034Z
UID:69df9552b5b86
END:VEVENT
END:VCALENDAR