BEGIN:VCALENDAR
VERSION:2.0
PRODID:-//hacksw/handcal//NONSGML v1.0//EN
CALSCALE:GREGORIAN
BEGIN:VEVENT
DESCRIPTION:
DTSTART:20220401T223000Z
DTEND:20220402T023000Z
SUMMARY:9am-1pm Enrolment Interviews for 2023 & 2024
URL;VALUE=URI:
DTSTAMP:20260421T044842Z
UID:69e701aaf372c
END:VEVENT
END:VCALENDAR