BEGIN:VCALENDAR
VERSION:2.0
PRODID:-//hacksw/handcal//NONSGML v1.0//EN
CALSCALE:GREGORIAN
BEGIN:VEVENT
DESCRIPTION:
DTSTART:20230409T143000Z
DTEND:20230409T143000Z
SUMMARY:Easter Monday
URL;VALUE=URI:
DTSTAMP:20260419T140829Z
UID:69e4e1dd1a566
END:VEVENT
END:VCALENDAR