BEGIN:VCALENDAR
VERSION:2.0
PRODID:-//hacksw/handcal//NONSGML v1.0//EN
CALSCALE:GREGORIAN
BEGIN:VEVENT
DESCRIPTION:
DTSTART:20221129T083000Z
DTEND:20221129T083000Z
SUMMARY:SAC Spectacular at the Adelaide Entertainment Centre (7pm)
URL;VALUE=URI:
DTSTAMP:20260415T154609Z
UID:69dfb2c177ca1
END:VEVENT
END:VCALENDAR