BEGIN:VCALENDAR
VERSION:2.0
PRODID:-//hacksw/handcal//NONSGML v1.0//EN
CALSCALE:GREGORIAN
BEGIN:VEVENT
DESCRIPTION:
DTSTART:20221122T133000Z
DTEND:20221122T133000Z
SUMMARY:SACPSSA Athletics
URL;VALUE=URI:
DTSTAMP:20260415T133050Z
UID:69df930a542f5
END:VEVENT
END:VCALENDAR