BEGIN:VCALENDAR
VERSION:2.0
PRODID:-//hacksw/handcal//NONSGML v1.0//EN
CALSCALE:GREGORIAN
BEGIN:VEVENT
DESCRIPTION:
DTSTART:20230124T223000Z
DTEND:20230125T023000Z
SUMMARY:Textbook (Yr 10) and laptop collection (Yrs 8-12) 9am-1pm
URL;VALUE=URI:
DTSTAMP:20260415T161423Z
UID:69dfb95fd392a
END:VEVENT
END:VCALENDAR