BEGIN:VCALENDAR
VERSION:2.0
PRODID:-//hacksw/handcal//NONSGML v1.0//EN
CALSCALE:GREGORIAN
BEGIN:VEVENT
DESCRIPTION:
DTSTART:20241101T070000Z
DTEND:20241101T083000Z
SUMMARY:Year 12 Visual Arts Exhibition Opening (5:30-7pm)
URL;VALUE=URI:
DTSTAMP:20260415T154254Z
UID:69dfb1fec009f
END:VEVENT
END:VCALENDAR