BEGIN:VCALENDAR
VERSION:2.0
PRODID:-//hacksw/handcal//NONSGML v1.0//EN
CALSCALE:GREGORIAN
BEGIN:VEVENT
DESCRIPTION:
DTSTART:20230213T083000Z
DTEND:20230213T083000Z
SUMMARY:Yr 12 Parent Information Night (McAuley Auditorium) 7pm
URL;VALUE=URI:
DTSTAMP:20260415T160049Z
UID:69dfb631d081c
END:VEVENT
END:VCALENDAR