BEGIN:VCALENDAR
VERSION:2.0
PRODID:-//hacksw/handcal//NONSGML v1.0//EN
CALSCALE:GREGORIAN
BEGIN:VEVENT
DESCRIPTION:
DTSTART:20230208T073000Z
DTEND:20230208T080000Z
SUMMARY:Yr 3 Parent Laptop Info Session (McAuley Auditorium) 6-6:30pm
URL;VALUE=URI:
DTSTAMP:20260415T161328Z
UID:69dfb9281eecb
END:VEVENT
END:VCALENDAR