BEGIN:VCALENDAR
VERSION:2.0
PRODID:-//hacksw/handcal//NONSGML v1.0//EN
CALSCALE:GREGORIAN
BEGIN:VEVENT
DESCRIPTION:
DTSTART:20241015T133000Z
DTEND:20241015T133000Z
SUMMARY:Yr 7 Immunisations (McAuley Auditorium)
URL;VALUE=URI:
DTSTAMP:20260419T143854Z
UID:69e4e8febe1a9
END:VEVENT
END:VCALENDAR